BEGIN:VCALENDAR
VERSION:2.0
METHOD:PUBLISH
CALSCALE:GREGORIAN
PRODID:-//WordPress - MECv7.29.0//EN
X-ORIGINAL-URL:https://eauclairedistrictlibrary.org/
X-WR-CALNAME:Eau Claire District Library
X-WR-CALDESC:Connect. Learn. Grow.
X-WR-TIMEZONE:America/Detroit
BEGIN:VTIMEZONE
TZID:America/Detroit
X-LIC-LOCATION:America/Detroit
BEGIN:DAYLIGHT
TZOFFSETFROM:-0500
TZOFFSETTO:-0400
TZNAME:EDT
DTSTART:20260308T030000
RRULE:FREQ=YEARLY;BYMONTH=03;BYDAY=2SU
END:DAYLIGHT
BEGIN:STANDARD
TZOFFSETFROM:-0400
TZOFFSETTO:-0500
TZNAME:EST
DTSTART:20261101T010000
RRULE:FREQ=YEARLY;BYMONTH=11;BYDAY=1SU
END:STANDARD
END:VTIMEZONE
REFRESH-INTERVAL;VALUE=DURATION:PT1H
X-PUBLISHED-TTL:PT1H
X-MS-OLK-FORCEINSPECTOROPEN:TRUE
BEGIN:VEVENT
CLASS:PUBLIC
UID:MEC-14e422f05b68cc0139988e128ee880df@eauclairedistrictlibrary.org
DTSTART;TZID=America/Detroit:20260421T130000
DTEND;TZID=America/Detroit:20260421T150000
DTSTAMP:20251120T170421Z
RRULE:FREQ=WEEKLY
CREATED:20251120
LAST-MODIFIED:20260202
PRIORITY:5
SEQUENCE:4
TRANSP:OPAQUE
SUMMARY:Needle Works – Sodus
DESCRIPTION:
URL:https://eauclairedistrictlibrary.org/events/needle-works-sodus/
CATEGORIES:Adults
ATTACH;FMTTYPE=:https://eauclairedistrictlibrary.org/wp-content/uploads/Knitting-2.avif
END:VEVENT
BEGIN:VEVENT
CLASS:PUBLIC
UID:MEC-765d5fb115a9f6a3e0b23b80a5b2e4c4@eauclairedistrictlibrary.org
DTSTART;TZID=America/Detroit:20260422T140000
DTEND;TZID=America/Detroit:20260422T153000
DTSTAMP:20250130T111024Z
RRULE:FREQ=WEEKLY;BYDAY=WE
EXDATE:20251126T190000Z,20251224T190000Z
CREATED:20250130
LAST-MODIFIED:20260202
PRIORITY:5
SEQUENCE:12
TRANSP:OPAQUE
SUMMARY:Sticks in the Stacks
DESCRIPTION:\nJoin us every Wednesday from 2-3:30. Bring a yarn project and chat.\n\n\n\n\n
URL:https://eauclairedistrictlibrary.org/events/sticks-in-the-stacks/
CATEGORIES:Adults
LOCATION:125 S. Main St., Eau Claire, MI 49065
ATTACH;FMTTYPE=:https://eauclairedistrictlibrary.org/wp-content/uploads/Knitting-3.avif
END:VEVENT
BEGIN:VEVENT
CLASS:PUBLIC
UID:MEC-4dd9cec1c21bc54eecb53786a2c5fa09@eauclairedistrictlibrary.org
DTSTART;TZID=America/Detroit:20260511T130000
DTEND;TZID=America/Detroit:20260511T140000
DTSTAMP:20240816T104535Z
RRULE:FREQ=MONTHLY;WKST=SU;BYDAY=2MO
CREATED:20240816
LAST-MODIFIED:20260202
PRIORITY:5
SEQUENCE:5
TRANSP:OPAQUE
SUMMARY:Library Board Meeting
DESCRIPTION:\nOpen to the Public\n\n\n\nThe Library Board meets on the second Monday of the month, at 1:00 PM in the Community Room.  This is an open meeting. \n\n\n\n\n
URL:https://eauclairedistrictlibrary.org/events/library-board-meeting/
CATEGORIES:Meetings
END:VEVENT
BEGIN:VEVENT
CLASS:PUBLIC
UID:MEC-645e6bfdd05d1a69c5e47b20f0a91d46@eauclairedistrictlibrary.org
DTSTART;TZID=America/Detroit:20260424T110000
DTEND;TZID=America/Detroit:20260424T120000
DTSTAMP:20251002T105848Z
RRULE:FREQ=WEEKLY;UNTIL=20260529T160000Z
CREATED:20251002
LAST-MODIFIED:20260319
PRIORITY:5
SEQUENCE:17
TRANSP:OPAQUE
SUMMARY:Stories & More
DESCRIPTION:\nAges 0-5 and their caregivers are invited to stories and fun. \n
URL:https://eauclairedistrictlibrary.org/events/stories-more/
CATEGORIES:Early Literacy
ATTACH;FMTTYPE=:https://eauclairedistrictlibrary.org/wp-content/uploads/Stories-6.avif
END:VEVENT
BEGIN:VEVENT
CLASS:PUBLIC
UID:MEC-5b4a2146246bc3a3a941f32225bbb792@eauclairedistrictlibrary.org
DTSTART;TZID=America/Detroit:20260421T163000
DTEND;TZID=America/Detroit:20260421T173000
DTSTAMP:20260105T152536Z
RRULE:FREQ=MONTHLY;WKST=SU;BYDAY=3TU
CREATED:20260105
LAST-MODIFIED:20260319
PRIORITY:5
SEQUENCE:11
TRANSP:OPAQUE
SUMMARY:Cook the Books – Sodus
DESCRIPTION:\nOur new book group program at Sodus combines two of our favorite things, cooking and reading. Grab a book from the Sodus Library, make a recipe to share at the meeting. \n\n\n\nJanuary 20th – Every Season is Soup Season by Shelly Worcel\n\n\n\nFebruary 17th – Baking Yesteryear by B. Dylan Hollis\n\n\n\nMarch 17th – Meals From the Mitten by Gina Ferwerda\n\n\n\nApril 21st – Dorie’s Cookies byDorie Greenspan\n\n\n\nMay 19th – Salad Party by Kristy Mucci\n\n\n\nJune 16th – Cook With Me by Alex Guarnaschelli\n\n\n\nJuly 21st – Of Course It’s Good by Jessica Secrest\n\n\n\nAugust 18th – One Pot Perfect by Donna Hay\n\n\n\nSeptember 15th- Cake Picnic by Elisa Sunga\n\n\n\nOctober 20th – My Little Michigan Kitchen by Mandy McGover\n\n\n\nNovember 17th – Sister Pie by Lisa Ludwinski\n\n\n\nDecember 15th – Christmas Cookie Share\n\n\n\n\n
URL:https://eauclairedistrictlibrary.org/events/cook-the-books-sodus/
CATEGORIES:Adults
ATTACH;FMTTYPE=:https://eauclairedistrictlibrary.org/wp-content/uploads/Cook-Books.avif
END:VEVENT
BEGIN:VEVENT
CLASS:PUBLIC
UID:MEC-69eba34671b3ef1ef38ee85caae6b2a1@eauclairedistrictlibrary.org
DTSTART;TZID=America/Detroit:20260430T000000
DTEND;TZID=America/Detroit:20260501T000000
DTSTAMP:20260319T144223Z
CREATED:20260319
LAST-MODIFIED:20260319
PRIORITY:5
SEQUENCE:3
TRANSP:OPAQUE
SUMMARY:Changemaker Birthday Kits
DESCRIPTION:\nWe are taking donations of cake mix, disposable pans, small bottles of oil, candles and frosting all month for birthday kits to be donated to the United Way. Join us on April 30th to stuff kits and create birthday cards. \n
URL:https://eauclairedistrictlibrary.org/events/changemaker-birthday-kits/
CATEGORIES:All Ages
ATTACH;FMTTYPE=:https://eauclairedistrictlibrary.org/wp-content/uploads/Birthday-Kits.avif
END:VEVENT
BEGIN:VEVENT
CLASS:PUBLIC
UID:MEC-67606d48e361ce176ca71fd54fcf4286@eauclairedistrictlibrary.org
DTSTART;TZID=America/Detroit:20260429T000000
DTEND;TZID=America/Detroit:20260430T000000
DTSTAMP:20260319T140255Z
CREATED:20260319
LAST-MODIFIED:20260319
PRIORITY:5
SEQUENCE:4
TRANSP:OPAQUE
SUMMARY:Mardi Gras Fun!
DESCRIPTION:\nLouisiana is rich with history including Mardi Gras. Join us to create a mask, crown or bracelet and learn more about this interesting celebration. There will be Moon Pies! All day at both locations. \n
URL:https://eauclairedistrictlibrary.org/events/mardi-gras-fun/
CATEGORIES:All Ages
ATTACH;FMTTYPE=:https://eauclairedistrictlibrary.org/wp-content/uploads/Mardi-Gras.avif
END:VEVENT
BEGIN:VEVENT
CLASS:PUBLIC
UID:MEC-3f647cadf56541fb9513cb63ec370187@eauclairedistrictlibrary.org
DTSTART;TZID=America/Detroit:20260424T000000
DTEND;TZID=America/Detroit:20260425T000000
DTSTAMP:20260319T135338Z
CREATED:20260319
LAST-MODIFIED:20260319
PRIORITY:5
SEQUENCE:2
TRANSP:OPAQUE
SUMMARY:National Library Week – Celebrate You
DESCRIPTION:\nApril 20 – Celebrate Libraries by writing a letter to our Township Boards\n\n\n\nApril 21 – Celerate Staff by answering trivia on Facebook\n\n\n\nApril 22 – Celebrate the Library Board and Friends Group with cake\n\n\n\nApril 24 – Celebrate You by stopping in to grab a special gift\n
URL:https://eauclairedistrictlibrary.org/events/national-library-week-celebrate-you/
ATTACH;FMTTYPE=:https://eauclairedistrictlibrary.org/wp-content/uploads/Library-Week.avif
END:VEVENT
BEGIN:VEVENT
CLASS:PUBLIC
UID:MEC-c9f06bc7b46d0247a91c8fc665c13d0e@eauclairedistrictlibrary.org
DTSTART;TZID=America/Detroit:20260422T000000
DTEND;TZID=America/Detroit:20260423T000000
DTSTAMP:20260319T135254Z
CREATED:20260319
LAST-MODIFIED:20260319
PRIORITY:5
SEQUENCE:2
TRANSP:OPAQUE
SUMMARY:National Library Week – Celebrate Board & Friends
DESCRIPTION:\nApril 20 – Celebrate Libraries by writing a letter to our Township Boards\n\n\n\nApril 21 – Celerate Staff by answering trivia on Facebook\n\n\n\nApril 22 – Celebrate the Library Board and Friends Group with cake\n\n\n\nApril 24 – Celebrate You by stopping in to grab a special gift\n
URL:https://eauclairedistrictlibrary.org/events/national-library-week-celebrate-board-friends/
ATTACH;FMTTYPE=:https://eauclairedistrictlibrary.org/wp-content/uploads/Library-Week.avif
END:VEVENT
BEGIN:VEVENT
CLASS:PUBLIC
UID:MEC-1b9f38268c50805669fd8caf8f3cc84a@eauclairedistrictlibrary.org
DTSTART;TZID=America/Detroit:20260421T000000
DTEND;TZID=America/Detroit:20260422T000000
DTSTAMP:20260319T135140Z
CREATED:20260319
LAST-MODIFIED:20260319
PRIORITY:5
SEQUENCE:2
TRANSP:OPAQUE
SUMMARY:National Library Week – Celebrate Staff
DESCRIPTION:\nApril 20 – Celebrate Libraries by writing a letter to our Township Boards\n\n\n\nApril 21 – Celerate Staff by answering trivia on Facebook\n\n\n\nApril 22 – Celebrate the Library Board and Friends Group with cake\n\n\n\nApril 24 – Celebrate You by stopping in to grab a special gift\n
URL:https://eauclairedistrictlibrary.org/events/national-library-week-celebrate-staff/
ATTACH;FMTTYPE=:https://eauclairedistrictlibrary.org/wp-content/uploads/Library-Week.avif
END:VEVENT
BEGIN:VEVENT
CLASS:PUBLIC
UID:MEC-8baca01b732cf56f7ce83df216514363@eauclairedistrictlibrary.org
DTSTART;TZID=America/Detroit:20260420T000000
DTEND;TZID=America/Detroit:20260421T000000
DTSTAMP:20260319T135014Z
CREATED:20260319
LAST-MODIFIED:20260319
PRIORITY:5
SEQUENCE:2
TRANSP:OPAQUE
SUMMARY:National Library Week – Celebrate Libraries
DESCRIPTION:\nApril 20 – Celebrate Libraries by writing a letter to our Township Boards\n\n\n\nApril 21 – Celerate Staff by answering trivia on Facebook\n\n\n\nApril 22 – Celebrate the Library Board and Friends Group with cake\n\n\n\nApril 24 – Celebrate You by stopping in to grab a special gift\n
URL:https://eauclairedistrictlibrary.org/events/national-library-week-celebrate-libraries/
ATTACH;FMTTYPE=:https://eauclairedistrictlibrary.org/wp-content/uploads/Library-Week.avif
END:VEVENT
BEGIN:VEVENT
CLASS:PUBLIC
UID:MEC-f8f5161cf94df05793592f5fab95138b@eauclairedistrictlibrary.org
DTSTART;TZID=America/Detroit:20260419T100000
DTEND;TZID=America/Detroit:20260419T180000
DTSTAMP:20260319T134820Z
CREATED:20260319
LAST-MODIFIED:20260319
PRIORITY:5
SEQUENCE:2
TRANSP:OPAQUE
SUMMARY:National Library Week – Find Your Joy!
DESCRIPTION:\nThis annual celebration highlights the valuable role libraries and library professionals play in tranforming lives and strengthening our communities. Drop by either location to join in the festivies. \n\n\n\nApril 20 – Celebrate Libraries by writing a letter to our Township Boards\n\n\n\nApril 21 – Celerate Staff by answering trivia on Facebook\n\n\n\nApril 22 – Celebrate the Library Board and Friends Group with cake\n\n\n\nApril 24 – Celebrate You by stopping in to grab a special gift\n
URL:https://eauclairedistrictlibrary.org/events/national-library-week-find-your-joy/
ATTACH;FMTTYPE=:https://eauclairedistrictlibrary.org/wp-content/uploads/Library-Week.avif
END:VEVENT
BEGIN:VEVENT
CLASS:PUBLIC
UID:MEC-414a7497190eaef6b5d75d5a6a11afcf@eauclairedistrictlibrary.org
DTSTART;TZID=America/Detroit:20260422T100000
DTEND;TZID=America/Detroit:20260422T101500
DTSTAMP:20260319T124538Z
CREATED:20260319
LAST-MODIFIED:20260319
PRIORITY:5
SEQUENCE:3
TRANSP:OPAQUE
SUMMARY:Earth Day Bookmark Winners Announcement
DESCRIPTION:\nWinners will be annonced for the Earth Day Bookmark Contest. See winners and enteries from 25 years ago on display beginning today. \n
URL:https://eauclairedistrictlibrary.org/events/earth-day-bookmark-winners-announcement/
ATTACH;FMTTYPE=:https://eauclairedistrictlibrary.org/wp-content/uploads/Bookmarks.avif
END:VEVENT
BEGIN:VEVENT
CLASS:PUBLIC
UID:MEC-142c65e00f4f7cf2e6c4c996e34005df@eauclairedistrictlibrary.org
DTSTART;TZID=America/Detroit:20260424T163000
DTEND;TZID=America/Detroit:20260424T173000
DTSTAMP:20260302T152858Z
CREATED:20260302
LAST-MODIFIED:20260319
PRIORITY:5
SEQUENCE:6
TRANSP:OPAQUE
SUMMARY:Lego Challenge – Sodus
DESCRIPTION:\nComplete the Lego Challenge and free play. \n
URL:https://eauclairedistrictlibrary.org/events/lego-challenge/
CATEGORIES:Early Literacy,Kids,Teens
LOCATION:3776 Naomi Road, Sodus, MI 49126
ATTACH;FMTTYPE=:https://eauclairedistrictlibrary.org/wp-content/uploads/Lego-4.avif
END:VEVENT
BEGIN:VEVENT
CLASS:PUBLIC
UID:MEC-cb953f6ca5923f7517125db46ed1293d@eauclairedistrictlibrary.org
DTSTART;TZID=America/Detroit:20260428T170000
DURATION:PT1H
DTSTAMP:20260202T153833Z
RDATE;TZID=America/Detroit:20260324T170000,20260428T170000,20260526T170000,20260623T170000,20260728T170000,20260825T170000,20260922T170000,20261027T170000,20261124T170000
EXDATE:20251215T220000Z,20260119T220000Z
CREATED:20260202
LAST-MODIFIED:20260319
PRIORITY:5
SEQUENCE:32
TRANSP:OPAQUE
SUMMARY:Book Coven
DESCRIPTION:\nGrab a book from the library a month before the discussion. Meet up to chat about it. Discovery Books reads all genres and welcomes adults and teens. \n\n\n\nJanuary –Crave by Tracy Wolff\n\n\n\nFebruary – The Foxglove King by Hannah Whitten\n\n\n\nMarch – To Kill a Kingdom by Alexandra Christo\n\n\n\nApril – Heir of Storms by Lauryn Hamilton Murray\n\n\n\nMay – A Forbidden Alchemy by Stacey McEwan\n\n\n\nJune – A Land So Wide by Erin A. Craig\n\n\n\nJuly – When Among Crows by Veronica Roth\n\n\n\nAugust – Quicksliver by Callie Hart\n\n\n\nSeptember – Servant of Earth by Sarah Hawley\n\n\n\nOctober – Night of the Witch by Sara Raasch\n\n\n\nNovember – Katabasis by RF Kuang\n\n\n\nDecember – No Meeting\n\n\n\n\n\n\n\n\n
URL:https://eauclairedistrictlibrary.org/events/book-title-coming-soon-2-244/
CATEGORIES:Adults,Book Groups
LOCATION:125 S. Main St., Eau Claire, MI 49065
ATTACH;FMTTYPE=:https://eauclairedistrictlibrary.org/wp-content/uploads/Book-Coven-5.avif
END:VEVENT
BEGIN:VEVENT
CLASS:PUBLIC
UID:MEC-9b9b05072dd20d1cc3e54607b84c889b@eauclairedistrictlibrary.org
DTSTART;TZID=America/Detroit:20260428T140000
DURATION:PT1H
DTSTAMP:20251120T170307Z
RDATE;TZID=America/Detroit:20260113T140000,20260127T140000,20260210T140000,20260224T140000,20260317T140000,20260331T140000,20260414T140000,20260428T140000
CREATED:20251120
LAST-MODIFIED:20260319
PRIORITY:5
SEQUENCE:17
TRANSP:OPAQUE
SUMMARY:Stories & More – Sodus
DESCRIPTION:
URL:https://eauclairedistrictlibrary.org/events/stories-more-sodus/
CATEGORIES:Early Literacy
ATTACH;FMTTYPE=:https://eauclairedistrictlibrary.org/wp-content/uploads/Stories-6.avif
END:VEVENT
BEGIN:VEVENT
CLASS:PUBLIC
UID:MEC-a74c3bae3e13616104c1b25f9da1f11f@eauclairedistrictlibrary.org
DTSTART;TZID=America/Detroit:20260505T120000
DURATION:PT1H
DTSTAMP:20250421T162527Z
RDATE;TZID=America/Detroit:20250805T120000,20260106T120000,20260210T170000,20260303T120000,20260414T170000,20260505T120000,20260609T170000,20260707T120000,20260811T170000,20260901T120000
CREATED:20250421
LAST-MODIFIED:20260319
PRIORITY:5
SEQUENCE:24
TRANSP:OPAQUE
SUMMARY:Friends of Eau Claire/Sodus Libraries Meeting
DESCRIPTION:\nMonthly Friends meeting for the Friends of the Eau Claire/Sodus Libraries. Location and time may alternate every month.\n\n\n\nJanuary 13th at 12-1p – Sodus\n\n\n\nFebruary 10th at 5-6p – Eau Claire\n\n\n\nMarch 3th at 12-1p – Sodus\n\n\n\nApril 14th at 5-6pm – Eau Claire\n\n\n\nMay 5th at 12-1pm – Sodus\n\n\n\nJune 9th at 5-6pm – Eau Claire\n\n\n\nJuly 7th at 12-1pm – Sodus\n\n\n\nAugust 11th at 5-6pm – Eau Claire\n
URL:https://eauclairedistrictlibrary.org/events/friends-of-eau-claire-sodus-libraries-meeting/
CATEGORIES:Adults,Friends
LOCATION:125 S. Main St., Eau Claire, MI 49065
ATTACH;FMTTYPE=:https://eauclairedistrictlibrary.org/wp-content/uploads/Friends-1.avif
END:VEVENT
END:VCALENDAR
